BEGIN:VCALENDAR
VERSION:2.0
PRODID:-//Lonehill International - ECPv6.15.20//NONSGML v1.0//EN
CALSCALE:GREGORIAN
METHOD:PUBLISH
X-ORIGINAL-URL:https://www.lonehillacademy.school
X-WR-CALDESC:Events for Lonehill International
REFRESH-INTERVAL;VALUE=DURATION:PT1H
X-Robots-Tag:noindex
X-PUBLISHED-TTL:PT1H
BEGIN:VTIMEZONE
TZID:Africa/Johannesburg
BEGIN:STANDARD
TZOFFSETFROM:+0200
TZOFFSETTO:+0200
TZNAME:SAST
DTSTART:20240101T000000
END:STANDARD
END:VTIMEZONE
BEGIN:VEVENT
DTSTART;VALUE=DATE:20250718
DTEND;VALUE=DATE:20250719
DTSTAMP:20260422T125052
CREATED:20250605T092155Z
LAST-MODIFIED:20250605T092555Z
UID:241218-1752796800-1752883199@www.lonehillacademy.school
SUMMARY:Nelson Mandela Day
DESCRIPTION:
URL:https://www.lonehillacademy.school/event/nelson-mandela-day/
LOCATION:Lonehill Fourways Campus\, 3505 Winnie Mandela Drive\, Fourways\, Johannesburg\, Gauteng\, 2191\, South Africa
CATEGORIES:Holidays
END:VEVENT
BEGIN:VEVENT
DTSTART;TZID=Africa/Johannesburg:20250715T080000
DTEND;TZID=Africa/Johannesburg:20250715T170000
DTSTAMP:20260422T125052
CREATED:20250612T121301Z
LAST-MODIFIED:20250612T121308Z
UID:241366-1752566400-1752598800@www.lonehillacademy.school
SUMMARY:School Opens Tomorrow
DESCRIPTION:
URL:https://www.lonehillacademy.school/event/school-opens-tomorrow/
LOCATION:Lonehill Fourways Campus\, 3505 Winnie Mandela Drive\, Fourways\, Johannesburg\, Gauteng\, 2191\, South Africa
CATEGORIES:Holidays
END:VEVENT
BEGIN:VEVENT
DTSTART;TZID=Africa/Johannesburg:20250627T080000
DTEND;TZID=Africa/Johannesburg:20250627T170000
DTSTAMP:20260422T125052
CREATED:20250612T121222Z
LAST-MODIFIED:20250612T121222Z
UID:241364-1751011200-1751043600@www.lonehillacademy.school
SUMMARY:School Closes Today
DESCRIPTION:
URL:https://www.lonehillacademy.school/event/school-closes-today/
LOCATION:Lonehill Fourways Campus\, 3505 Winnie Mandela Drive\, Fourways\, Johannesburg\, Gauteng\, 2191\, South Africa
CATEGORIES:Holidays
END:VEVENT
BEGIN:VEVENT
DTSTART;VALUE=DATE:20250417
DTEND;VALUE=DATE:20250505
DTSTAMP:20260422T125052
CREATED:20250216T141740Z
LAST-MODIFIED:20250216T141746Z
UID:239900-1744848000-1746403199@www.lonehillacademy.school
SUMMARY:School Holidays
DESCRIPTION:
URL:https://www.lonehillacademy.school/event/school-holidays/
LOCATION:Lonehill Fourways Campus\, 3505 Winnie Mandela Drive\, Fourways\, Johannesburg\, Gauteng\, 2191\, South Africa
CATEGORIES:Holidays
END:VEVENT
BEGIN:VEVENT
DTSTART;TZID=Africa/Johannesburg:20250320T080000
DTEND;TZID=Africa/Johannesburg:20250321T170000
DTSTAMP:20260422T125052
CREATED:20250216T140755Z
LAST-MODIFIED:20250216T140755Z
UID:239884-1742457600-1742576400@www.lonehillacademy.school
SUMMARY:School Closed-Long Weekend
DESCRIPTION:
URL:https://www.lonehillacademy.school/event/school-closed-long-weekend/
LOCATION:Lonehill Fourways Campus\, 3505 Winnie Mandela Drive\, Fourways\, Johannesburg\, Gauteng\, 2191\, South Africa
CATEGORIES:Holidays
END:VEVENT
BEGIN:VEVENT
DTSTART;TZID=Africa/Johannesburg:20250217T080000
DTEND;TZID=Africa/Johannesburg:20250218T170000
DTSTAMP:20260422T125052
CREATED:20250214T133933Z
LAST-MODIFIED:20250214T133933Z
UID:239854-1739779200-1739898000@www.lonehillacademy.school
SUMMARY:Mid-Term Break
DESCRIPTION:We are closed for mid-term break from the 17-18th February.
URL:https://www.lonehillacademy.school/event/mid-term-break/
LOCATION:Gauteng
CATEGORIES:Holidays
ORGANIZER;CN="Lonehill Events":MAILTO:info@lonehillacademy.school
END:VEVENT
END:VCALENDAR